BEGIN:VCALENDAR
VERSION:2.0
PRODID:spatie/icalendar-generator
DESCRIPTION:Events from คณะพุทธศาสตร์
X-WR-CALDESC:Events from คณะพุทธศาสตร์
REFRESH-INTERVAL;VALUE=DURATION:PT1440M
X-PUBLISHED-TTL:PT1440M
BEGIN:VTIMEZONE
TZID:Asia/Bangkok
BEGIN:STANDARD
DTSTART:20250712T140000Z
TZOFFSETFROM:+0700
TZOFFSETTO:+0700
END:STANDARD
END:VTIMEZONE
BEGIN:VTIMEZONE
TZID:UTC
BEGIN:STANDARD
DTSTART:20250723T134319Z
TZOFFSETFROM:+0000
TZOFFSETTO:+0000
END:STANDARD
END:VTIMEZONE
BEGIN:VEVENT
UID:20-19
DTSTAMP:20260419T134319Z
SUMMARY:คณะพุทธศาสตร์จัดกิจกรร
 มประเพณีสงกรานต์สรงน้ำพร
 ะ ประจำปี 2569
LOCATION:ลานอเนกประสงค์พิเศษ (ชั
 ่วคราว) หน้าสำนักงานคณบดี 
 คณะพุทธศาสตร์ ชั้น G อาคารส
 มเด็จพระพุฒาจาาย์ (เกี่ยว 
 อุปเสณมหาเถร) มหาวิทยาลัยม
 หาจุฬาลงกรณราชวิทยาลัย    ว
 ังน้อย พระนครศรีอยุธยา
ORGANIZER;CN=webadmin:MAILTO:phaisal.dis@mcu.ac.th
DTSTART;TZID=Asia/Bangkok:20260408T140000
DTEND;TZID=Asia/Bangkok:20260408T153000
X-ALT-DESC;FMTTYPE=TEXT/HTML:
CATEGORIES:กิจกรรม
URL;VALUE=URI:https://fb.mcu.ac.th/?mc-events=%e0%b8%84%e0%b8%93%e0%b8%b0%e
 0%b8%9e%e0%b8%b8%e0%b8%97%e0%b8%98%e0%b8%a8%e0%b8%b2%e0%b8%aa%e0%b8%95%e0%
 b8%a3%e0%b9%8c%e0%b8%88%e0%b8%b1%e0%b8%94%e0%b8%81%e0%b8%b4%e0%b8%88%e0%b8
 %81%e0%b8%a3%e0%b8%a3
METHOD:PUBLISH
END:VEVENT
END:VCALENDAR